BEGIN:VCALENDAR
VERSION:2.0
PRODID:icalendar-ruby
CALSCALE:GREGORIAN
METHOD:PUBLISH
BEGIN:VEVENT
DTSTAMP:20260419T172506Z
UID:1-671500@loveprevailsom.com
DTSTART:20260816T190000Z
DTEND:20260816T213000Z
CLASS:PUBLIC
CREATED:20260419T113628
DESCRIPTION:Join Love Prevails This Sunday For An Experience Of God’s Glo
 ry!\nWe’re Expecting A Great And Mighty Move Of God!\n\nPlease Be Our Gu
 est!\nBring A Friend!\nBring Your Praise!\n 
LAST-MODIFIED:20260419T113628
LOCATION:114 Weaver Dairy Rd\, Chapel Hill\, NC 27514
SUMMARY:Sunday Service Afternoon Worship
URL;VALUE=URI:https://www.loveprevailsom.com/events/sunday-service-afternoo
 n-worship/2026-08-16
ATTACH;FILENAME=Love-Prevails-Outreach-Ministry-Sunday-Service-Picture.jpg;
 FMTTYPE=image/jpeg:https://dq5pwpg1q8ru0.cloudfront.net/2022/01/26/19/06/3
 4/01f1ca6c-f675-4c46-948d-f3240a306f1b/Love-Prevails-Outreach-Ministry-Sun
 day-Service-Picture.jpg
END:VEVENT
END:VCALENDAR
