BEGIN:VCALENDAR
VERSION:2.0
PRODID:icalendar-ruby
CALSCALE:GREGORIAN
METHOD:PUBLISH
BEGIN:VEVENT
DTSTAMP:20260422T004814Z
UID:8-679092@loveprevailsom.com
DTSTART:20260924T233000Z
DTEND:20260925T000000Z
CLASS:PUBLIC
CREATED:20260421T202731
DESCRIPTION:
LAST-MODIFIED:20260421T202731
LOCATION:Virtual Online # 518-316-7183
SUMMARY:Virtual Bible Study
URL;VALUE=URI:https://www.loveprevailsom.com/events/virtual-bible-study/202
 6-09-24
ATTACH;FILENAME=VirtualBibleStudy.png;FMTTYPE=image/png:https://dq5pwpg1q8r
 u0.cloudfront.net/2022/10/12/16/04/42/bdbeb035-500d-4daa-bbb4-0a3fc187b5c8
 /VirtualBibleStudy.png
END:VEVENT
END:VCALENDAR
